BEGIN:VCALENDAR
VERSION:2.0
PRODID:-//ChamberMaster//Event Calendar 2.0//EN
METHOD:PUBLISH
X-PUBLISHED-TTL:P3D
REFRESH-INTERVAL:P3D
CALSCALE:GREGORIAN
BEGIN:VEVENT
DTSTART:20220409T160000Z
DTEND:20220409T180000Z
X-MICROSOFT-CDO-ALLDAYEVENT:FALSE
SUMMARY:Shakes with the Easter Bunny
DESCRIPTION:Join Downtown Nutrition this Saturday for fun\, games and pictures with the Easter bunny. All kids are welcome big and small.
X-ALT-DESC;FMTTYPE=text/html:Join Downtown Nutrition this Saturday for fun\, games and pictures with the Easter bunny. All kids are welcome big and small.
LOCATION:Downtown Nutrition Neosho 104 E Spring St Neosho MO 64850
UID:e.2144.8264
SEQUENCE:3
DTSTAMP:20260424T073648Z
URL:https://neoshocc.com/events/details/shakes-with-the-easter-bunny-8264
END:VEVENT

END:VCALENDAR
