BEGIN:VCALENDAR
VERSION:2.0
PRODID:-//ChamberMaster//Event Calendar 2.0//EN
METHOD:PUBLISH
X-PUBLISHED-TTL:P3D
REFRESH-INTERVAL:P3D
CALSCALE:GREGORIAN
BEGIN:VEVENT
DTSTART:20190810T190000Z
DTEND:20190810T220000Z
X-MICROSOFT-CDO-ALLDAYEVENT:FALSE
SUMMARY:Sgraffito Workshop w/ Sylvia Grotheer
DESCRIPTION:Join The Clay Cup on August 10th for a hands-on Sgraffito Workshop with local potter Sylvia Grotheer. Only 15 spots open to learn the art of sgraffito. The cost is $60 per student. This includes all the materials and firing.
X-ALT-DESC;FMTTYPE=text/html:Join The Clay Cup on August 10th for a hands-on Sgraffito Workshop with local potter Sylvia Grotheer. Only 15 spots open to learn the art of sgraffito. The cost is $60 per student. This includes all the materials and firing.&nbsp\;
LOCATION:The Clay Cup - A Coffee Pottery 114 N Wood St. Neosho\, Missouri 64850
UID:e.2144.2677
SEQUENCE:3
DTSTAMP:20260423T085529Z
URL:https://neoshocc.com/events/details/sgraffito-workshop-w-sylvia-grotheer-2677
END:VEVENT

END:VCALENDAR
