BEGIN:VCALENDAR
VERSION:2.0
PRODID:-//ChamberMaster//Event Calendar 2.0//EN
METHOD:PUBLISH
X-PUBLISHED-TTL:P3D
REFRESH-INTERVAL:P3D
CALSCALE:GREGORIAN
BEGIN:VEVENT
DTSTART:20150612T140000Z
DTEND:20150612T180000Z
X-MICROSOFT-CDO-ALLDAYEVENT:FALSE
SUMMARY:Senior Fishing Day - Neosho National Fish Hatchery
DESCRIPTION:Senior Fishing Day at the Neosho National Fish Hatchery will be held for Seniors 65 or over & individuals of any age with permanent disability.  Registration will begin at 8:00am the same day.  Lunch and all the gear needed will be provided for free.  No license required\; however there will be a four trout limit.
X-ALT-DESC;FMTTYPE=text/html:Senior Fishing Day at the Neosho National Fish Hatchery will be held for Seniors 65 or over &amp\; individuals of any age with permanent disability.&nbsp\; Registration will begin at 8:00am the same day.&nbsp\; Lunch and all the gear needed will be provided for free.&nbsp\; No license required\; however there will be a four trout limit.
LOCATION:Neosho National Fish Hatchery 520 E. Park St Neosho\, MO 64850 417-451-0554
UID:e.2144.148
SEQUENCE:3
DTSTAMP:20260422T011551Z
URL:https://neoshocc.com/events/details/senior-fishing-day-neosho-national-fish-hatchery-06-12-2015-148
END:VEVENT

END:VCALENDAR
