BEGIN:VCALENDAR
VERSION:2.0
PRODID:-//ChamberMaster//Event Calendar 2.0//EN
METHOD:PUBLISH
X-PUBLISHED-TTL:P3D
REFRESH-INTERVAL:P3D
CALSCALE:GREGORIAN
BEGIN:VEVENT
DTSTART:20260925T130000Z
DTEND:20260925T170000Z
X-MICROSOFT-CDO-ALLDAYEVENT:FALSE
SUMMARY:Senior Fishing Day
DESCRIPTION:Seniors aged 62 or over and individuals of any age with a permanent disability are invited to participate. Registration begins at 8AM\, with fishing from 9AM to 12PM. Lunch will be provided for all participants.
X-ALT-DESC;FMTTYPE=text/html:Seniors aged 62 or over and individuals of any age with a permanent disability are invited to participate. Registration begins at 8AM\, with fishing from 9AM to 12PM. Lunch will be provided for all participants.&nbsp\;
LOCATION:Neosho National Fish Hatchery
UID:e.2144.19234
SEQUENCE:3
DTSTAMP:20260422T113201Z
URL:https://neoshocc.com/events/details/senior-fishing-day-19234
END:VEVENT

END:VCALENDAR
