BEGIN:VCALENDAR
VERSION:2.0
PRODID:-//ChamberMaster//Event Calendar 2.0//EN
METHOD:PUBLISH
X-PUBLISHED-TTL:P3D
REFRESH-INTERVAL:P3D
CALSCALE:GREGORIAN
BEGIN:VEVENT
DTSTART:20141124T173000Z
DTEND:20141124T190000Z
X-MICROSOFT-CDO-ALLDAYEVENT:FALSE
SUMMARY:Senior Citizen Appreciation Banquet
DESCRIPTION:Senior Citizen Appreciation Banquet.  All Neosho R-5 School District Patrons\, ages 60 and up are invited to the 14th Annual Senior Citizen Appreciation Banquet.
X-ALT-DESC;FMTTYPE=text/html:Senior Citizen Appreciation Banquet.&nbsp\; All Neosho R-5 School District Patrons\, ages 60 and up are invited to the 14th Annual Senior Citizen Appreciation Banquet.
LOCATION:Neosho Middle School Gymnasium
UID:e.2144.72
SEQUENCE:3
DTSTAMP:20260422T121346Z
URL:https://neoshocc.com/events/details/senior-citizen-appreciation-banquet-11-24-2014-72
END:VEVENT

END:VCALENDAR
