BEGIN:VCALENDAR
VERSION:2.0
PRODID:-//ChamberMaster//Event Calendar 2.0//EN
METHOD:PUBLISH
X-PUBLISHED-TTL:P3D
REFRESH-INTERVAL:P3D
CALSCALE:GREGORIAN
BEGIN:VEVENT
DTSTART;VALUE=DATE:20250121
DTEND;VALUE=DATE:20250122
TRANSP:TRANSPARENT
X-MICROSOFT-CDO-ALLDAYEVENT:TRUE
SUMMARY:Senior Bowling League
DESCRIPTION:Seniors stay active with our Senior League meets on Wednesday @ 11 a.m. This growing group of Neosho area residents enjoys meeting weekly for three games of league play. No worries if you are new to the sport they will get you rolling in no time. This is a great way to stay active and socialize. The recommended ages are 50+ most are in their 70's. No one is pro bowling in this group and many have physical limitations and just getting the ball on the lane is all they aim for. Come in and connect. Free coffee!
X-ALT-DESC;FMTTYPE=text/html:Seniors stay active with our Senior League meets on Wednesday @ 11 a.m. This growing group of Neosho area residents enjoys meeting weekly for three games of league play. No worries if you are new to the sport they will get you rolling in no time. This is a great way to stay active and socialize. The recommended ages are 50+ most are in their 70&rsquo\;s. No one is pro bowling in this group and many have physical limitations and just getting the ball on the lane is all they aim for. Come in and connect. Free coffee!
LOCATION:2811 Gardner Edgewood Dr Neosho Mo 64850
UID:e.2144.14354
SEQUENCE:3
DTSTAMP:20260421T083700Z
URL:https://neoshocc.com/events/details/senior-bowling-league-01-21-2025-14354
END:VEVENT

END:VCALENDAR
