BEGIN:VCALENDAR
VERSION:2.0
PRODID:-//ChamberMaster//Event Calendar 2.0//EN
METHOD:PUBLISH
X-PUBLISHED-TTL:P3D
REFRESH-INTERVAL:P3D
CALSCALE:GREGORIAN
BEGIN:VEVENT
DTSTART:20230210T133000Z
DTEND:20230210T143000Z
X-MICROSOFT-CDO-ALLDAYEVENT:FALSE
SUMMARY:Second Friday Coffee @ Chamber Office
DESCRIPTION:Breakfast treats\, networking and coffee! Join us for our 2nd Friday Coffee hosted by Dude's House of Donuts and NACC.
X-ALT-DESC;FMTTYPE=text/html:Breakfast treats\, networking and coffee! Join us for our 2nd Friday Coffee hosted by Dude&#39\;s House of Donuts and NACC.
LOCATION:Chamber Office 216 W Spring Street Neosho\, MO 64850
UID:e.2144.9026
SEQUENCE:3
DTSTAMP:20260426T021358Z
URL:https://neoshocc.com/events/details/second-friday-coffee-chamber-office-02-10-2023-9026
END:VEVENT

END:VCALENDAR
