BEGIN:VCALENDAR
VERSION:2.0
PRODID:-//ChamberMaster//Event Calendar 2.0//EN
METHOD:PUBLISH
X-PUBLISHED-TTL:P3D
REFRESH-INTERVAL:P3D
CALSCALE:GREGORIAN
BEGIN:VEVENT
DTSTART:20221203T210000Z
DTEND:20221204T010000Z
X-MICROSOFT-CDO-ALLDAYEVENT:FALSE
SUMMARY:Scout Troop 34 Pancake Fundraiser
DESCRIPTION:Annual Pancake Feed\n\nNeosho Methodist Church Basement
X-ALT-DESC;FMTTYPE=text/html:Annual Pancake Feed<br />\nNeosho Methodist Church Basement<br />\n&nbsp\;
LOCATION:Neosho Methodist Church Basement 224 S Wood Street Neosho\, MO 64850
UID:e.2144.8951
SEQUENCE:3
DTSTAMP:20260421T102949Z
URL:https://neoshocc.com/events/details/scout-troop-34-pancake-fundraiser-8951
END:VEVENT

END:VCALENDAR
