BEGIN:VCALENDAR
VERSION:2.0
PRODID:-//ChamberMaster//Event Calendar 2.0//EN
METHOD:PUBLISH
X-PUBLISHED-TTL:P3D
REFRESH-INTERVAL:P3D
CALSCALE:GREGORIAN
BEGIN:VEVENT
DTSTART:20141005T200000Z
DTEND:20141005T200000Z
X-MICROSOFT-CDO-ALLDAYEVENT:FALSE
SUMMARY:Scarecrow Auction
DESCRIPTION:Looking for a Great way to decorate your home or business? 29 Scarecrows will be auctioned off Sunday at 3pm at the Neosho Fall Festival!
X-ALT-DESC;FMTTYPE=text/html:Looking for a Great way to decorate your home or business? 29 Scarecrows will be auctioned off Sunday at 3pm at the Neosho Fall Festival!
LOCATION:Downtown Neosho Square
UID:e.2144.51
SEQUENCE:3
DTSTAMP:20260422T132835Z
URL:https://neoshocc.com/events/details/scarecrow-auction-10-05-2014-51
END:VEVENT

END:VCALENDAR
