BEGIN:VCALENDAR
VERSION:2.0
PRODID:-//ChamberMaster//Event Calendar 2.0//EN
METHOD:PUBLISH
X-PUBLISHED-TTL:P3D
REFRESH-INTERVAL:P3D
CALSCALE:GREGORIAN
BEGIN:VEVENT
DTSTART;VALUE=DATE:20220430
DTEND;VALUE=DATE:20220501
TRANSP:TRANSPARENT
X-MICROSOFT-CDO-ALLDAYEVENT:TRUE
SUMMARY:Save the Date! Dan Meers\, KC Chief's Mascot is coming to Neosho
DESCRIPTION:KC Chief mascot\, Dan Meers\, is coming to Neosho!  Please contact Neosho Christian School at office@neoshochristianschool.com or 417-451-1941 for more details.
X-ALT-DESC;FMTTYPE=text/html:KC Chief mascot\, Dan Meers\, is coming to Neosho!&nbsp\; Please contact Neosho Christian School at office@neoshochristianschool.com or 417-451-1941 for more details.
LOCATION:Neosho Civic Center
UID:e.2144.8146
SEQUENCE:3
DTSTAMP:20260424T074325Z
URL:https://neoshocc.com/events/details/save-the-date-dan-meers-kc-chief-s-mascot-is-coming-to-neosho-8146
END:VEVENT

END:VCALENDAR
