BEGIN:VCALENDAR
VERSION:2.0
PRODID:-//ChamberMaster//Event Calendar 2.0//EN
METHOD:PUBLISH
X-PUBLISHED-TTL:P3D
REFRESH-INTERVAL:P3D
CALSCALE:GREGORIAN
BEGIN:VEVENT
DTSTART:20250906T230000Z
DTEND:20250907T020000Z
X-MICROSOFT-CDO-ALLDAYEVENT:FALSE
SUMMARY:Sarah Diamond Live Music at Eastside Social
DESCRIPTION:Catch Sarah Diamond live at Eastside! She'll be jamming out on the patio all night long. Join us downtown on September 6th from 6pm to 9pm for great music\, good vibes\, and summer fun!
X-ALT-DESC;FMTTYPE=text/html:<span style="color:rgb(35\, 31\, 32)\; font-family:brandon-grotesque\; font-size:18.9184px">Catch Sarah Diamond live at Eastside! She&rsquo\;ll be jamming out on the patio all night long. Join us downtown on September 6th from 6pm to 9pm for great music\, good vibes\, and summer fun!</span>
LOCATION:113 S Washington St. Neosho\, Mo Eastside Social
UID:e.2144.18436
SEQUENCE:3
DTSTAMP:20260424T044120Z
URL:https://neoshocc.com/events/details/sarah-diamond-live-music-at-eastside-social-09-06-2025-18436
END:VEVENT

END:VCALENDAR
