BEGIN:VCALENDAR
VERSION:2.0
PRODID:-//ChamberMaster//Event Calendar 2.0//EN
METHOD:PUBLISH
X-PUBLISHED-TTL:P3D
REFRESH-INTERVAL:P3D
CALSCALE:GREGORIAN
BEGIN:VEVENT
DTSTART:20231111T220000Z
DTEND:20231112T010000Z
X-MICROSOFT-CDO-ALLDAYEVENT:FALSE
SUMMARY:Ronald McDonald House Charities Tree Lighting and Open House
DESCRIPTION:Bring your family and friends to kick off the holiday season with us as we light our dazzling\, 22-foot Christmas tree\, house and grounds. An Open House will be held from 4:00 - 7:00 pm\, with the Lighting of the Tree and Grounds at 5:30 pm. Join us at Ronald McDonald House and enjoy:   Live\, festive musical performances throughout the evening   Photos with Santa (on a first come\, first serve basis)   Storytime with Mrs. Claus   Children's crafts\, activities and games   Cocoa and cookies   A signature drink for adults in an exclusive\, commemorative glass (while supplies last)   House tours by Santa's elves Find more details about the event at https://fb.me/e/3UMVpXRa0 or give a Gift of Love at https://rmhjoplin.org/rmhlights/.
X-ALT-DESC;FMTTYPE=text/html:Bring your family and friends to kick off the holiday season with us as we light our dazzling\, 22-foot Christmas tree\, house and grounds. An Open House will be held from 4:00 - 7:00 pm\, with the Lighting of the Tree and Grounds at 5:30 pm. Join us at Ronald McDonald House and enjoy: &bull\; Live\, festive musical performances throughout the evening &bull\; Photos with Santa (on a first come\, first serve basis) &bull\; Storytime with Mrs. Claus &bull\; Children&rsquo\;s crafts\, activities and games &bull\; Cocoa and cookies &bull\; A signature drink for adults in an exclusive\, commemorative glass (while supplies last) &bull\; House tours by Santa&rsquo\;s elves Find more details about the event at https://fb.me/e/3UMVpXRa0 or give a Gift of Love at https://rmhjoplin.org/rmhlights/.
LOCATION:Ronald McDonald House of the Four States 3402 S. Jackson\, Ave. Joplin\, MO 64804
UID:e.2144.10818
SEQUENCE:3
DTSTAMP:20260425T123920Z
URL:https://neoshocc.com/events/details/ronald-mcdonald-house-charities-tree-lighting-and-open-house-10818
END:VEVENT

END:VCALENDAR
