BEGIN:VCALENDAR
VERSION:2.0
PRODID:-//ChamberMaster//Event Calendar 2.0//EN
METHOD:PUBLISH
X-PUBLISHED-TTL:P3D
REFRESH-INTERVAL:P3D
CALSCALE:GREGORIAN
BEGIN:VEVENT
DTSTART:20210515T160000Z
DTEND:20210515T200000Z
X-MICROSOFT-CDO-ALLDAYEVENT:FALSE
SUMMARY:Robbins Auto Body\, LLC Grand Opening Cruise-In
DESCRIPTION:Robbins Auto Body\, LLC\n\nGrand Opening Cruise-In\n\nOn Site: \n\nTommyHawks Four States\n\nBlondies Wood Fire Pizza\n\nRedneck Recipes\n\nFacebook Event Page
X-ALT-DESC;FMTTYPE=text/html:Robbins Auto Body\, LLC<br />\nGrand Opening Cruise-In<br />\nOn Site:&nbsp\;<br />\nTommyHawks Four States<br />\nBlondies Wood Fire Pizza<br />\nRedneck Recipes<br />\n<a href="https://www.facebook.com/events/238948778014430/?active_tab=discussion">Facebook Event Page</a>
LOCATION:12546 MO-B Grandby\, MO 64844
UID:e.2144.7619
SEQUENCE:3
DTSTAMP:20260423T181216Z
URL:https://neoshocc.com/events/details/robbins-auto-body-llc-grand-opening-cruise-in-7619
END:VEVENT

END:VCALENDAR
