BEGIN:VCALENDAR
VERSION:2.0
PRODID:-//ChamberMaster//Event Calendar 2.0//EN
METHOD:PUBLISH
X-PUBLISHED-TTL:P3D
REFRESH-INTERVAL:P3D
CALSCALE:GREGORIAN
BEGIN:VEVENT
DTSTART;VALUE=DATE:20210924
DTEND;VALUE=DATE:20210926
TRANSP:TRANSPARENT
X-MICROSOFT-CDO-ALLDAYEVENT:TRUE
SUMMARY:Roadtrippin' Down Hwy. 60 Shop Hop
DESCRIPTION:Grab your friends and favorite roadtrippin' music\, then get ready to hit the road for a fun day of "shop hopping" small businesses in towns along Hwy. 60 from Neosho to Republic\, Missouri.\n\n \n\nThis "shop hop" will include prizes AND a fun way to explore shops in towns along Hwy. 60.\n\nBe sure to follow this event as we add more details about the shops involved and prizes! \n\n\n\nDownload the Experience Neosho app to follow along the trip with details about special promotions at each shop\, hours and directions!
X-ALT-DESC;FMTTYPE=text/html:<div>Grab your friends and favorite roadtrippin&#39\; music\, then get ready to hit the road for a fun day of &quot\;shop hopping&quot\; small businesses in towns along Hwy. 60 from Neosho to Republic\, Missouri.<br />\n&nbsp\;</div>\n\n<div>This &quot\;shop hop&quot\; will include prizes AND a fun way to explore shops in towns along Hwy. 60.</div>\n\n<div>Be sure to follow this event as we add more details about the shops involved and prizes!&nbsp\;<br />\n<br />\nDownload the Experience Neosho app to follow along the trip with details about special promotions at each shop\, hours and directions!</div>\n
LOCATION:Small business shops in towns along Highway 60 from Neosho to Republic\, MO. Follow our event\, Roadtrippin' Down Hwy 60 on Facebook for specific details on shops involved or click on the link to the event on the Experience Neosho App.
UID:e.2144.7697
SEQUENCE:3
DTSTAMP:20260423T194252Z
URL:https://neoshocc.com/events/details/roadtrippin-down-hwy-60-shop-hop-7697
END:VEVENT

END:VCALENDAR
