BEGIN:VCALENDAR
VERSION:2.0
PRODID:-//ChamberMaster//Event Calendar 2.0//EN
METHOD:PUBLISH
X-PUBLISHED-TTL:P3D
REFRESH-INTERVAL:P3D
CALSCALE:GREGORIAN
BEGIN:VEVENT
DTSTART:20141209T153000Z
DTEND:20141209T160000Z
X-MICROSOFT-CDO-ALLDAYEVENT:FALSE
SUMMARY:RIbbon Cutting/New Member Welcome - World Finance Corporation
DESCRIPTION:Join us for a Ribbon Cutting/ New Member Welcome for World Finance Corporation!
X-ALT-DESC;FMTTYPE=text/html:Join us for a Ribbon Cutting/ New Member Welcome for World Finance Corporation!
LOCATION:3201 Lusk Drive\, Suite J Neosho\, MO 64850
UID:e.2144.95
SEQUENCE:3
DTSTAMP:20260422T105332Z
URL:https://neoshocc.com/events/details/ribbon-cutting-new-member-welcome-world-finance-corporation-12-09-2014-95
END:VEVENT

END:VCALENDAR
