BEGIN:VCALENDAR
VERSION:2.0
PRODID:-//ChamberMaster//Event Calendar 2.0//EN
METHOD:PUBLISH
X-PUBLISHED-TTL:P3D
REFRESH-INTERVAL:P3D
CALSCALE:GREGORIAN
BEGIN:VEVENT
DTSTART:20190813T150000Z
DTEND:20190813T150000Z
X-MICROSOFT-CDO-ALLDAYEVENT:FALSE
SUMMARY:Ribbon Cutting/New Member Welcome - The Cocoa Exchange by Kathi Coates
DESCRIPTION:Join us for a Ribbon Cutting/New Member Welcome for The Cocoa Exchange by Kathi Coates. \nLife's sweeter with friends and chocolate\n\nThe Cocoa Exchange is a unique gourmet food company that creates surprising chocolate and cocoa-infused products that are your secret ingredient in the kitchen and in life.
X-ALT-DESC;FMTTYPE=text/html:Join us for a Ribbon Cutting/New Member Welcome for The Cocoa Exchange by Kathi Coates.&nbsp\;\n<h2 style="box-sizing: border-box\; font-family: museo-sans\, sans-serif\; line-height: 1.1\; color: rgb(83\, 41\, 29)\; margin-top: 0.714rem\; margin-bottom: 1.429rem\; font-size: 2.571em\; text-align: center\;"><span style="color:#000000\;"><span style="font-size:14px\;">Life&rsquo\;s sweeter with friends and chocolate</span></span></h2>\n\n<p style="box-sizing: border-box\; margin: 0px 0px 10px\; padding-top: 0px\; padding-bottom: 0px\; color: rgb(112\, 67\, 32)\; font-family: museo-sans\, sans-serif\; font-size: 16px\; text-align: center\;"><span style="color:#000000\;"><span style="font-size:14px\;">The Cocoa Exchange is a unique gourmet food company that creates surprising chocolate and cocoa-infused products that are your secret ingredient in the kitchen&hellip\;and in life.</span></span></p>\n<br />\n&nbsp\;
LOCATION:Ribbon Cutting held at the Chamber Office 216 W. Spring St. Neosho\, Mo 64850
UID:e.2144.2667
SEQUENCE:3
DTSTAMP:20260421T083920Z
URL:https://neoshocc.com/events/details/ribbon-cutting-new-member-welcome-the-cocoa-exchange-by-kathi-coates-2667
END:VEVENT

END:VCALENDAR
