BEGIN:VCALENDAR
VERSION:2.0
PRODID:-//ChamberMaster//Event Calendar 2.0//EN
METHOD:PUBLISH
X-PUBLISHED-TTL:P3D
REFRESH-INTERVAL:P3D
CALSCALE:GREGORIAN
BEGIN:VEVENT
DTSTART:20140920T000000Z
DTEND:20140920T010000Z
X-MICROSOFT-CDO-ALLDAYEVENT:FALSE
SUMMARY:Ribbon Cutting/New Member Welcome- The BAR-B-Q JOINT
DESCRIPTION:We will have a Ribbon Cutting/New Member Welcome for THE BAR-B-Q JOINT during their Grand Opening Tailgate Party!  The event starts at 4 PM until 6 PM! Cruise on in for live music and hang out or have dinner!  KBTN Radio will be broadcasting live.  We will hold our Ribbon Cutting at 5pm!
X-ALT-DESC;FMTTYPE=text/html:We will have a Ribbon Cutting/New Member Welcome for THE BAR-B-Q JOINT during their Grand Opening Tailgate Party!&nbsp\; The event starts at 4 PM until 6 PM! Cruise on in for live music and hang out or have dinner!&nbsp\; KBTN Radio will be broadcasting live.&nbsp\; We will hold our Ribbon Cutting at 5pm!
LOCATION:The BAR-B-Q Joint 416 S. Neosho Blvd Neosho\, MO
UID:e.2144.32
SEQUENCE:3
DTSTAMP:20260422T150801Z
URL:https://neoshocc.com/events/details/ribbon-cutting-new-member-welcome-the-bar-b-q-joint-09-19-2014-32
END:VEVENT

END:VCALENDAR
