BEGIN:VCALENDAR
VERSION:2.0
PRODID:-//ChamberMaster//Event Calendar 2.0//EN
METHOD:PUBLISH
X-PUBLISHED-TTL:P3D
REFRESH-INTERVAL:P3D
CALSCALE:GREGORIAN
BEGIN:VEVENT
DTSTART:20150915T140000Z
DTEND:20150915T143000Z
X-MICROSOFT-CDO-ALLDAYEVENT:FALSE
SUMMARY:Ribbon Cutting/New Member Welcome - Steamline 6 Carpet Cleaning
DESCRIPTION:Join us at the Chamber Office for a \n\nRibbon Cutting/New Member Welcome for Steamline 6 Carpet Cleaning
X-ALT-DESC;FMTTYPE=text/html:<div style="color: gray\;"><span style="font-size: 12px\;"><span style="color: rgb(0\, 0\, 0)\;"><span style="font-style: italic\; font-weight: bold\; language: en-US\;"><span style="font-family: century gothic\;">Join us at the Chamber Office for a </span></span><br />\n<span style="font-style: italic\; font-weight: bold\; language: en-US\;"><span style="font-family: century gothic\;">Ribbon Cutting/New Member Welcome for </span></span><span style="font-style: italic\; font-weight: bold\; language: en-US\;"><span style="font-family: century gothic\;">Steamline</span></span><span style="font-style: italic\; font-weight: bold\; language: en-US\;"><span style="font-family: century gothic\;"> 6 Carpet Cleaning</span></span></span></span><br />\n&nbsp\;</div>\n
LOCATION:Chamber Office 216 W. Spring Neosho\, Mo
UID:e.2144.1464
SEQUENCE:3
DTSTAMP:20260421T215750Z
URL:https://neoshocc.com/events/details/ribbon-cutting-new-member-welcome-steamline-6-carpet-cleaning-09-15-2015-1464
END:VEVENT

END:VCALENDAR
