BEGIN:VCALENDAR
VERSION:2.0
PRODID:-//ChamberMaster//Event Calendar 2.0//EN
METHOD:PUBLISH
X-PUBLISHED-TTL:P3D
REFRESH-INTERVAL:P3D
CALSCALE:GREGORIAN
BEGIN:VEVENT
DTSTART:20160322T160000Z
DTEND:20160322T162000Z
X-MICROSOFT-CDO-ALLDAYEVENT:FALSE
SUMMARY:Ribbon Cutting/New Member Welcome- Skateland
DESCRIPTION:Join us as we welcome Skateland to the Chamber as a new member.
X-ALT-DESC;FMTTYPE=text/html:Join us as we welcome Skateland to the Chamber as a new member.
LOCATION:1297 I-49 Business Neosho
UID:e.2144.1618
SEQUENCE:3
DTSTAMP:20260421T130712Z
URL:https://neoshocc.com/events/details/ribbon-cutting-new-member-welcome-skateland-03-22-2016-1618
END:VEVENT

END:VCALENDAR
