BEGIN:VCALENDAR
VERSION:2.0
PRODID:-//ChamberMaster//Event Calendar 2.0//EN
METHOD:PUBLISH
X-PUBLISHED-TTL:P3D
REFRESH-INTERVAL:P3D
CALSCALE:GREGORIAN
BEGIN:VEVENT
DTSTART:20141113T143000Z
DTEND:20141113T180000Z
X-MICROSOFT-CDO-ALLDAYEVENT:FALSE
SUMMARY:Ribbon Cutting/New Member Welcome - Pinpoint Marketing\, LLC
DESCRIPTION:Join us at the Chamber Office as we welcome Becky Franklin and Pinpoint Marketing\, LLC to our Chamber family.
X-ALT-DESC;FMTTYPE=text/html:Join us at the Chamber Office as we welcome Becky Franklin and Pinpoint Marketing\, LLC to our Chamber family.
LOCATION:Chamber Office 216 W. Spring Neosho\, MO
UID:e.2144.81
SEQUENCE:3
DTSTAMP:20260422T121929Z
URL:https://neoshocc.com/events/details/ribbon-cutting-new-member-welcome-pinpoint-marketing-llc-11-13-2014-81
END:VEVENT

END:VCALENDAR
