BEGIN:VCALENDAR
VERSION:2.0
PRODID:-//ChamberMaster//Event Calendar 2.0//EN
METHOD:PUBLISH
X-PUBLISHED-TTL:P3D
REFRESH-INTERVAL:P3D
CALSCALE:GREGORIAN
BEGIN:VEVENT
DTSTART:20141009T140000Z
DTEND:20141009T143000Z
X-MICROSOFT-CDO-ALLDAYEVENT:FALSE
SUMMARY:Ribbon Cutting/New Member Welcome - PC Guys
DESCRIPTION:Please join us for a Ribbon Cutting/New Member Welcome for PC Guys!
X-ALT-DESC;FMTTYPE=text/html:Please join us for a Ribbon Cutting/New Member Welcome for PC Guys!
LOCATION:920 S. Neosho Blvd Neosho\, MO 64850
UID:e.2144.43
SEQUENCE:3
DTSTAMP:20260422T150542Z
URL:https://neoshocc.com/events/details/ribbon-cutting-new-member-welcome-pc-guys-10-09-2014-43
END:VEVENT

END:VCALENDAR
