BEGIN:VCALENDAR
VERSION:2.0
PRODID:-//ChamberMaster//Event Calendar 2.0//EN
METHOD:PUBLISH
X-PUBLISHED-TTL:P3D
REFRESH-INTERVAL:P3D
CALSCALE:GREGORIAN
BEGIN:VEVENT
DTSTART:20150410T173000Z
DTEND:20150410T180000Z
X-MICROSOFT-CDO-ALLDAYEVENT:FALSE
SUMMARY:Ribbon Cutting New Member Welcome- Neosho Lions Club
DESCRIPTION:Join us for a Ribbon Cutting/New Member Welcome for the Neosho Lions Club!\n\nPlease Note the Location has changed to the Lampo Center!
X-ALT-DESC;FMTTYPE=text/html:Join us for a Ribbon Cutting/New Member Welcome for the Neosho Lions Club!<br />\nPlease Note the Location has changed to the Lampo Center!&nbsp\;
LOCATION:Location Changed!! The Lampo Center Neosho\, MO
UID:e.2144.163
SEQUENCE:3
DTSTAMP:20260422T043858Z
URL:https://neoshocc.com/events/details/ribbon-cutting-new-member-welcome-neosho-lions-club-04-10-2015-163
END:VEVENT

END:VCALENDAR
