BEGIN:VCALENDAR
VERSION:2.0
PRODID:-//ChamberMaster//Event Calendar 2.0//EN
METHOD:PUBLISH
X-PUBLISHED-TTL:P3D
REFRESH-INTERVAL:P3D
CALSCALE:GREGORIAN
BEGIN:VEVENT
DTSTART:20140911T133000Z
DTEND:20140911T140000Z
X-MICROSOFT-CDO-ALLDAYEVENT:FALSE
SUMMARY:Ribbon Cutting/New Member Welcome Neosho Bright Futures
DESCRIPTION:Please join us for a Ribbon Cutting/New Member Welcome for Neosho Bright Futures!
X-ALT-DESC;FMTTYPE=text/html:Please join us for a Ribbon Cutting/New Member Welcome for Neosho Bright Futures!&nbsp\;&nbsp\;&nbsp\;
LOCATION:Neosho Bright Futures 115 W. Brook St Neosho\, MO 64850
UID:e.2144.30
SEQUENCE:3
DTSTAMP:20260422T150940Z
URL:https://neoshocc.com/events/details/ribbon-cutting-new-member-welcome-neosho-bright-futures-09-11-2014-30
END:VEVENT

END:VCALENDAR
