BEGIN:VCALENDAR
VERSION:2.0
PRODID:-//ChamberMaster//Event Calendar 2.0//EN
METHOD:PUBLISH
X-PUBLISHED-TTL:P3D
REFRESH-INTERVAL:P3D
CALSCALE:GREGORIAN
BEGIN:VEVENT
DTSTART:20141010T163000Z
DTEND:20141010T170000Z
X-MICROSOFT-CDO-ALLDAYEVENT:FALSE
SUMMARY:Ribbon Cutting/New Member Welcome - Harlan's Automotive LLC
DESCRIPTION:Join us for a Ribbon Cutting/ New Member Welcome for Harlan's Automotive\, LLC.
X-ALT-DESC;FMTTYPE=text/html:Join us for a Ribbon Cutting/ New Member Welcome for Harlan&#39\;s Automotive\, LLC.
LOCATION:Harlan's Automotive\, LLC 12001 Holly Road Neosho\, MO 64850
UID:e.2144.44
SEQUENCE:3
DTSTAMP:20260422T134517Z
URL:https://neoshocc.com/events/details/ribbon-cutting-new-member-welcome-harlan-s-automotive-llc-10-10-2014-44
END:VEVENT

END:VCALENDAR
