BEGIN:VCALENDAR
VERSION:2.0
PRODID:-//ChamberMaster//Event Calendar 2.0//EN
METHOD:PUBLISH
X-PUBLISHED-TTL:P3D
REFRESH-INTERVAL:P3D
CALSCALE:GREGORIAN
BEGIN:VEVENT
DTSTART:20150925T140000Z
DTEND:20150925T143000Z
X-MICROSOFT-CDO-ALLDAYEVENT:FALSE
SUMMARY:Ribbon Cutting/New Member Welcome - Great Clips
DESCRIPTION:Join us for a Grand Opening Ribbon Cutting/New Member Welcome for Great Clips Friday\, September 25th at 9am!
X-ALT-DESC;FMTTYPE=text/html:Join us for a Grand Opening Ribbon Cutting/New Member Welcome for Great Clips Friday\, September 25th at 9am!
LOCATION:Great Clips 3101 Lusk Drive Neosho\, MO 64850
UID:e.2144.1469
SEQUENCE:3
DTSTAMP:20260421T202745Z
URL:https://neoshocc.com/events/details/ribbon-cutting-new-member-welcome-great-clips-09-25-2015-1469
END:VEVENT

END:VCALENDAR
