BEGIN:VCALENDAR
VERSION:2.0
PRODID:-//ChamberMaster//Event Calendar 2.0//EN
METHOD:PUBLISH
X-PUBLISHED-TTL:P3D
REFRESH-INTERVAL:P3D
CALSCALE:GREGORIAN
BEGIN:VEVENT
DTSTART:20160302T160000Z
DTEND:20160302T163000Z
X-MICROSOFT-CDO-ALLDAYEVENT:FALSE
SUMMARY:Ribbon Cutting/New Member Welcome-Good Government Committee
DESCRIPTION:Join us at the Neosho Area Chamber of Commerce for a Ribbon Cutting/New Member Welcome for the Good Government Committee
X-ALT-DESC;FMTTYPE=text/html:Join us at the Neosho Area Chamber of Commerce for a Ribbon Cutting/New Member Welcome for the Good Government Committee
LOCATION:Neosho Area Chamber of Commerce 216 W Spring Neosho\, MO
UID:e.2144.1613
SEQUENCE:3
DTSTAMP:20260421T115402Z
URL:https://neoshocc.com/events/details/ribbon-cutting-new-member-welcome-good-government-committee-03-02-2016-1613
END:VEVENT

END:VCALENDAR
