BEGIN:VCALENDAR
VERSION:2.0
PRODID:-//ChamberMaster//Event Calendar 2.0//EN
METHOD:PUBLISH
X-PUBLISHED-TTL:P3D
REFRESH-INTERVAL:P3D
CALSCALE:GREGORIAN
BEGIN:VEVENT
DTSTART:20141104T230000Z
DTEND:20141104T233000Z
X-MICROSOFT-CDO-ALLDAYEVENT:FALSE
SUMMARY:Ribbon Cutting/New Member Welcome - Crossfit Go Deo
DESCRIPTION:The Neosho Area Chamber of Commerce invites you to the Ribbon Cutting/New Member Welcome for Crossfit Go Deo.  Tuesday\, November 4th\, 2014 at 5pm.  Chamber Members are invited to stay for a FREE Crossfit Class at 5:30pm!  587 Nelson Ave\, Neosho\, Mo
X-ALT-DESC;FMTTYPE=text/html:<div style="color: gray\;">The Neosho Area Chamber of Commerce invites you to the Ribbon Cutting/New Member Welcome for Crossfit Go Deo.&nbsp\; Tuesday\, November 4th\, 2014 at 5pm.&nbsp\; Chamber Members are invited to stay for a FREE Crossfit Class at 5:30pm!&nbsp\; 587 Nelson Ave\, Neosho\, Mo</div>\n
LOCATION:Crossfit Go Deo 587 Nelson Ave Neosho\, MO 64850
UID:e.2144.73
SEQUENCE:3
DTSTAMP:20260422T121802Z
URL:https://neoshocc.com/events/details/ribbon-cutting-new-member-welcome-crossfit-go-deo-11-04-2014-73
END:VEVENT

END:VCALENDAR
