BEGIN:VCALENDAR
VERSION:2.0
PRODID:-//ChamberMaster//Event Calendar 2.0//EN
METHOD:PUBLISH
X-PUBLISHED-TTL:P3D
REFRESH-INTERVAL:P3D
CALSCALE:GREGORIAN
BEGIN:VEVENT
DTSTART:20160205T180000Z
DTEND:20160205T190000Z
X-MICROSOFT-CDO-ALLDAYEVENT:FALSE
SUMMARY:Ribbon Cutting/New Member Welcome - Cellular Advantage
DESCRIPTION:Please join us during your lunch break on Friday\, February 5th at 12:00pm for a Ribbon Cutting/New Member Welcome.  Snacks & Drinks!
X-ALT-DESC;FMTTYPE=text/html:Please join us during your lunch break on Friday\, February 5th at 12:00pm for a Ribbon Cutting/New Member Welcome.&nbsp\; Snacks &amp\; Drinks!
LOCATION:Neosho Cellular Advantage 3201 Lusk Dr. Ste. B
UID:e.2144.1583
SEQUENCE:3
DTSTAMP:20260421T130420Z
URL:https://neoshocc.com/events/details/ribbon-cutting-new-member-welcome-cellular-advantage-02-05-2016-1583
END:VEVENT

END:VCALENDAR
