BEGIN:VCALENDAR
VERSION:2.0
PRODID:-//ChamberMaster//Event Calendar 2.0//EN
METHOD:PUBLISH
X-PUBLISHED-TTL:P3D
REFRESH-INTERVAL:P3D
CALSCALE:GREGORIAN
BEGIN:VEVENT
DTSTART:20141202T200000Z
DTEND:20141202T203000Z
X-MICROSOFT-CDO-ALLDAYEVENT:FALSE
SUMMARY:Ribbon Cutting- New Job Site Launch www.joplinregionaljobs.com
DESCRIPTION:Join us at the Chamber Office for a Ribbon Cutting for the New Job Site www.JoplinRegionalJobs.com.  A new product from the Joplin Regional Business Journal.
X-ALT-DESC;FMTTYPE=text/html:Join us at the Chamber Office for a Ribbon Cutting for the New Job Site <a href="http://www.JoplinRegionalJobs.com">www.JoplinRegionalJobs.com</a>.&nbsp\; A new product from the Joplin Regional Business Journal.
LOCATION:The Chamber Office 214 W. Spring Neosho\, Mo 64850
UID:e.2144.90
SEQUENCE:3
DTSTAMP:20260422T104903Z
URL:https://neoshocc.com/events/details/ribbon-cutting-new-job-site-launch-www-joplinregionaljobs-com-12-02-2014-90
END:VEVENT

END:VCALENDAR
