BEGIN:VCALENDAR
VERSION:2.0
PRODID:-//ChamberMaster//Event Calendar 2.0//EN
METHOD:PUBLISH
X-PUBLISHED-TTL:P3D
REFRESH-INTERVAL:P3D
CALSCALE:GREGORIAN
BEGIN:VEVENT
DTSTART:20160324T170000Z
DTEND:20160324T180000Z
X-MICROSOFT-CDO-ALLDAYEVENT:FALSE
SUMMARY:Ribbon Cutting- Neosho Historic Walk/Run
DESCRIPTION:Join us before the quarterly luncheon for a Ribbon Cutting for Historic Neosho Walk/Run
X-ALT-DESC;FMTTYPE=text/html:Join us before the quarterly luncheon for a Ribbon Cutting for Historic&nbsp\;Neosho Walk/Run
LOCATION:The Civic Center Neosho
UID:e.2144.1619
SEQUENCE:3
DTSTAMP:20260421T115109Z
URL:https://neoshocc.com/events/details/ribbon-cutting-neosho-historic-walk-run-03-24-2016-1619
END:VEVENT

END:VCALENDAR
