BEGIN:VCALENDAR
VERSION:2.0
PRODID:-//ChamberMaster//Event Calendar 2.0//EN
METHOD:PUBLISH
X-PUBLISHED-TTL:P3D
REFRESH-INTERVAL:P3D
CALSCALE:GREGORIAN
BEGIN:VEVENT
DTSTART:20210609T190000Z
DTEND:20210609T200000Z
X-MICROSOFT-CDO-ALLDAYEVENT:FALSE
SUMMARY:Ribbon Cutting- Mojoe's
DESCRIPTION:Join us for a Ribbon Cutting at Mojoe's\, 929 S. Neosho Boulevard. Mojoe's is excited to celebrate their brand new building and share the new additions to their menu! Come out & enjoy this celebration!
X-ALT-DESC;FMTTYPE=text/html:Join us for a Ribbon Cutting at Mojoe&#39\;s\, 929 S. Neosho Boulevard. Mojoe&#39\;s is excited to celebrate their brand new building and share the new additions to their menu! Come out &amp\; enjoy this celebration!
LOCATION:Mojoes @ 929 S. Neosho Boulevard
UID:e.2144.7661
SEQUENCE:3
DTSTAMP:20260423T161916Z
URL:https://neoshocc.com/events/details/ribbon-cutting-mojoe-s-7661
END:VEVENT

END:VCALENDAR
