BEGIN:VCALENDAR
VERSION:2.0
PRODID:-//ChamberMaster//Event Calendar 2.0//EN
METHOD:PUBLISH
X-PUBLISHED-TTL:P3D
REFRESH-INTERVAL:P3D
CALSCALE:GREGORIAN
BEGIN:VEVENT
DTSTART:20210608T150000Z
DTEND:20210608T160000Z
X-MICROSOFT-CDO-ALLDAYEVENT:FALSE
SUMMARY:Ribbon Cutting- Hunt's Mobile Detailing
DESCRIPTION:Join us in welcoming our new member\, Hunt's Mobile Detailing. We will be celebrating with a Ribbon Cutting at the Chamber Office!
X-ALT-DESC;FMTTYPE=text/html:Join us in welcoming our new member\, Hunt&#39\;s Mobile Detailing. We will be celebrating with a Ribbon Cutting at the Chamber Office!
LOCATION:216 W Spring St\, Neosho\, MO 64850-1760\, United States
UID:e.2144.7662
SEQUENCE:3
DTSTAMP:20260423T144804Z
URL:https://neoshocc.com/events/details/ribbon-cutting-hunt-s-mobile-detailing-7662
END:VEVENT

END:VCALENDAR
