BEGIN:VCALENDAR
VERSION:2.0
PRODID:-//ChamberMaster//Event Calendar 2.0//EN
METHOD:PUBLISH
X-PUBLISHED-TTL:P3D
REFRESH-INTERVAL:P3D
CALSCALE:GREGORIAN
BEGIN:VEVENT
DTSTART:20190806T230000Z
DTEND:20190806T230000Z
X-MICROSOFT-CDO-ALLDAYEVENT:FALSE
SUMMARY:Ribbon Cutting Handicap Swing @ Morse Park
DESCRIPTION:Join us for a Ribbon Cutting for the new handicap swing located at Morse Park\, which was donated by Girl Scout Troop #70098.
X-ALT-DESC;FMTTYPE=text/html:Join us for a Ribbon Cutting for the new handicap swing located at Morse Park\, which was donated by Girl Scout Troop #70098.&nbsp\;
LOCATION:Morse Park - Neosho
UID:e.2144.2657
SEQUENCE:3
DTSTAMP:20260421T102016Z
URL:https://neoshocc.com/events/details/ribbon-cutting-handicap-swing-morse-park-2657
END:VEVENT

END:VCALENDAR
