BEGIN:VCALENDAR
VERSION:2.0
PRODID:-//ChamberMaster//Event Calendar 2.0//EN
METHOD:PUBLISH
X-PUBLISHED-TTL:P3D
REFRESH-INTERVAL:P3D
CALSCALE:GREGORIAN
BEGIN:VEVENT
DTSTART:20190822T153000Z
DTEND:20190822T160000Z
X-MICROSOFT-CDO-ALLDAYEVENT:FALSE
SUMMARY:Ribbon Cutting GTC Data Center
DESCRIPTION:Join us as we celebrate with Granby Telephone Company on their grand opening for GTC Broadband Data Center. Special guest\, Representative Billy Long will be on hand to help congratulate the GTC team.
X-ALT-DESC;FMTTYPE=text/html:Join us as we celebrate with Granby Telephone Company on their grand opening for GTC Broadband Data Center. Special guest\, Representative Billy Long will be on hand to help congratulate the GTC team.&nbsp\;
LOCATION:126 S. Beaver Ave. Granby\, MO
UID:e.2144.2683
SEQUENCE:3
DTSTAMP:20260421T083220Z
URL:https://neoshocc.com/events/details/ribbon-cutting-gtc-data-center-2683
END:VEVENT

END:VCALENDAR
