BEGIN:VCALENDAR
VERSION:2.0
PRODID:-//ChamberMaster//Event Calendar 2.0//EN
METHOD:PUBLISH
X-PUBLISHED-TTL:P3D
REFRESH-INTERVAL:P3D
CALSCALE:GREGORIAN
BEGIN:VEVENT
DTSTART:20190820T153000Z
DTEND:20190820T190000Z
X-MICROSOFT-CDO-ALLDAYEVENT:FALSE
SUMMARY:Ribbon Cutting for Wal-Mart's Online Grocery Pick-up
DESCRIPTION:It's a Pre-Launch Party for the NEW Online Grocery Pick-up at the Neosho Wal-Mart on Tuesday\, August 20th from 11am to 2pm.  Join us for the Ribbon Cutting Ceremony.
X-ALT-DESC;FMTTYPE=text/html:It&#39\;s a Pre-Launch Party for the NEW Online Grocery Pick-up at the Neosho Wal-Mart on Tuesday\, August 20th from 11am to 2pm.&nbsp\; Join us for the Ribbon Cutting Ceremony.&nbsp\;&nbsp\;&nbsp\;&nbsp\;&nbsp\;&nbsp\;&nbsp\;&nbsp\;&nbsp\;&nbsp\;&nbsp\;&nbsp\;
LOCATION:Neosho Wal-Mart 3200 Lusk Drive
UID:e.2144.2699
SEQUENCE:3
DTSTAMP:20260421T085404Z
URL:https://neoshocc.com/events/details/ribbon-cutting-for-wal-mart-s-online-grocery-pick-up-2699
END:VEVENT

END:VCALENDAR
