BEGIN:VCALENDAR
VERSION:2.0
PRODID:-//ChamberMaster//Event Calendar 2.0//EN
METHOD:PUBLISH
X-PUBLISHED-TTL:P3D
REFRESH-INTERVAL:P3D
CALSCALE:GREGORIAN
BEGIN:VEVENT
DTSTART:20231214T160000Z
DTEND:20231214T160000Z
X-MICROSOFT-CDO-ALLDAYEVENT:FALSE
SUMMARY:Ribbon Cutting for Freeman Neosho Physician Group Expansion
DESCRIPTION:Ribbon Cutting for Brand New Neosho Office Expansion\n\n Construction Completed on Neosho Physician Group Building\n\n \n\nWhat: Ribbon cutting for Freeman Neosho Group building expansion\n\nBackground: A brand new 4\,266-square-foot addition to Freeman Neosho Physician Group building\, located across from Freeman Neosho Hospital\, has been completed in less than five months' time.\n\nThe $1.2 million expansion provides Neosho and the surrounding communities with convenient access to physicians and medical services. It will increase clinic and office space\, including the addition of 14 examination rooms\, and will serve as the academic center for the Family Medicine Residency Freeman currently operates in affiliation with Kansas City University of Medicine.\n\n"Freeman Neosho Hospital and Physicians Group are thrilled to serve as the rural tract location for Kansas City University's Family Medicine Residency Clinic\," said Renee Denton\, Freeman Neosho Hospital's Chief Operating Officer. "It is infrequent that a full residency clinic is available to a rural location\, so to have this clinic available in Neosho will be extremely beneficial and increase access to medical care right here at home."\n\nThe Family Medicine Residency Clinic\, which provides care for the entire family through every stage of life\, adds two new resident physicians each year for three-year clinical stints. Typically\, these doctors in training develop skills in laboratory work\, medical procedures and patient care. Overseen by Family Medicine Residency Program Director Dr. Barbara Miller\, the program's first two residents\, Dr. Omar Rehman and Dr. Terrance Kelly\, began accepting patients at the clinic in 2022. This summer\, Dr. Brandyce Elia and Dr. Robert Morris joined the team. Two more doctors will come aboard in mid-2024. The program in Neosho focuses on training physicians to work in rural settings far away from extensive medical facilities in larger cities.\n\nIn addition to the 14 new examination rooms\, the expansion also features two physician offices\, three support staff workstations for the Family Medicine Residency Clinic\, a consultation area and a small laboratory.\n\n"This is a wonderful opportunity for those in our community who may be looking for a physician who can care for their newborn child or their great-grandparent\, to be able to establish with one physician and receive exceptional care\," Denton said.\n\nThe residency clinic is now scheduling new patients   infants through seniors   and appointments can be made by calling 417.347.4200.\n\n \n\nMedia: Contact Kevin McClintock\, Media Relations Coordinator\, at 417.434.3458 if attending. Follow the arrows for parking and entrance to the new addition facing W McKinney Street. There will also be tours of the new addition and lights refreshments will be provided.\n\n \n\n###\n\n \n\n \n\nAbout Freeman Health System\n\nLocally owned\, not-for-profit and nationally recognized\, Freeman Health System includes Freeman Hospital West\, Freeman Hospital East\, Freeman Neosho Hospital and Ozark Center   the area's largest provider of behavioral health services   as well as two urgent care clinics\, dozens of physician clinics and a variety of specialty services. In 2023\, Freeman earned dozens of individual awards for medical excellence and patient safety from CareChex \, an independent quality rating system that helps consumers evaluate healthcare providers. U.S. News & World Report named Freeman Health System the Best Hospital in Southwest Missouri for 2021. With more than 320 physicians on staff representing more than 90 specialties\, Freeman offers services including cancer care\, heart care\, neurology and neurosurgery\, orthopaedics\, children's services and women's services. Additionally\, Freeman is the only Children's Miracle Network Hospital in a 70-mile radius. For more information\, visit freemanhealth.com.
X-ALT-DESC;FMTTYPE=text/html:<p align="center" class="x_MsoNormal" style="margin: 0in\; font-size: 11pt\; font-family: Calibri\, sans-serif\; color: rgb(36\, 36\, 36)\; text-align: center\;"><span style="border: 0px\; font: inherit\; margin: 0px\; padding: 0px\; vertical-align: baseline\; color: inherit\;"><span style="border: 0px\; font: inherit\; margin: 0px\; padding: 0px\; vertical-align: baseline\; color: inherit\;"><b><span style="border: 0px\; font-style: inherit\; font-variant: inherit\; font-weight: inherit\; font-stretch: inherit\; font-size: 18pt\; line-height: inherit\; font-family: inherit\; font-optical-sizing: inherit\; font-kerning: inherit\; font-feature-settings: inherit\; font-variation-settings: inherit\; margin: 0px\; padding: 0px\; vertical-align: baseline\; color: inherit\;">Ribbon Cutting for Brand New Neosho Office Expansion</span></b></span></span></p>\n\n<p align="center" class="x_MsoNormal" style="margin: 0in\; font-size: 11pt\; font-family: Calibri\, sans-serif\; color: rgb(36\, 36\, 36)\; text-align: center\;"><span style="border: 0px\; font: inherit\; margin: 0px\; padding: 0px\; vertical-align: baseline\; color: inherit\;"><span style="border: 0px\; font: inherit\; margin: 0px\; padding: 0px\; vertical-align: baseline\; color: inherit\;"><b><i><span style="border: 0px\; font-style: inherit\; font-variant: inherit\; font-weight: inherit\; font-stretch: inherit\; font-size: 12pt\; line-height: inherit\; font-family: inherit\; font-optical-sizing: inherit\; font-kerning: inherit\; font-feature-settings: inherit\; font-variation-settings: inherit\; margin: 0px\; padding: 0px\; vertical-align: baseline\; color: inherit\;">&nbsp\;Construction Completed on Neosho Physician Group Building</span></i></b></span></span></p>\n\n<p class="x_MsoNormal" style="margin: 0in 0in 8pt\; font-size: 11pt\; font-family: Calibri\, sans-serif\; color: rgb(36\, 36\, 36)\; line-height: 15.5467px\;"><span style="border: 0px\; font: inherit\; margin: 0px\; padding: 0px\; vertical-align: baseline\; color: inherit\;">&nbsp\;</span></p>\n\n<p class="x_MsoNormal" style="margin: 0in 0in 8pt\; font-size: 11pt\; font-family: Calibri\, sans-serif\; color: rgb(36\, 36\, 36)\; line-height: 15.5467px\;"><span style="border: 0px\; font: inherit\; margin: 0px\; padding: 0px\; vertical-align: baseline\; color: inherit\;"><span style="border: 0px\; font: inherit\; margin: 0px\; padding: 0px\; vertical-align: baseline\; color: inherit\;"><b><span style="border: 0px\; font-style: inherit\; font-variant: inherit\; font-weight: inherit\; font-stretch: inherit\; font-size: 12pt\; line-height: 16.96px\; font-family: inherit\; font-optical-sizing: inherit\; font-kerning: inherit\; font-feature-settings: inherit\; font-variation-settings: inherit\; margin: 0px\; padding: 0px\; vertical-align: baseline\; color: inherit\;">What:&nbsp\;</span></b></span></span><span style="border: 0px\; font: inherit\; margin: 0px\; padding: 0px\; vertical-align: baseline\; color: inherit\;"><span style="border: 0px\; font: inherit\; margin: 0px\; padding: 0px\; vertical-align: baseline\; color: inherit\;"><span style="border: 0px\; font-style: inherit\; font-variant: inherit\; font-weight: inherit\; font-stretch: inherit\; font-size: 12pt\; line-height: 16.96px\; font-family: inherit\; font-optical-sizing: inherit\; font-kerning: inherit\; font-feature-settings: inherit\; font-variation-settings: inherit\; margin: 0px\; padding: 0px\; vertical-align: baseline\; color: inherit\;">Ribbon cutting for Freeman Neosho Group building expansion</span></span></span></p>\n\n<p class="x_MsoNormal" style="margin: 0in 0in 8pt\; font-size: 11pt\; font-family: Calibri\, sans-serif\; color: rgb(36\, 36\, 36)\; line-height: 15.5467px\;"><span style="border: 0px\; font: inherit\; margin: 0px\; padding: 0px\; vertical-align: baseline\; color: inherit\;"><span style="border: 0px\; font: inherit\; margin: 0px\; padding: 0px\; vertical-align: baseline\; color: inherit\;"><b><span style="border: 0px\; font-style: inherit\; font-variant: inherit\; font-weight: inherit\; font-stretch: inherit\; font-size: 12pt\; line-height: 16.96px\; font-family: inherit\; font-optical-sizing: inherit\; font-kerning: inherit\; font-feature-settings: inherit\; font-variation-settings: inherit\; margin: 0px\; padding: 0px\; vertical-align: baseline\; color: inherit\;">Background:</span></b></span></span><span style="border: 0px\; font: inherit\; margin: 0px\; padding: 0px\; vertical-align: baseline\; color: inherit\;"><span style="border: 0px\; font: inherit\; margin: 0px\; padding: 0px\; vertical-align: baseline\; color: inherit\;"><span style="border: 0px\; font-style: inherit\; font-variant: inherit\; font-weight: inherit\; font-stretch: inherit\; font-size: 12pt\; line-height: 16.96px\; font-family: inherit\; font-optical-sizing: inherit\; font-kerning: inherit\; font-feature-settings: inherit\; font-variation-settings: inherit\; margin: 0px\; padding: 0px\; vertical-align: baseline\; color: inherit\;">&nbsp\;A brand new 4\,266-square-foot addition to Freeman Neosho Physician Group building\, located across from Freeman Neosho Hospital\, has been completed in less than five months&rsquo\; time.</span></span></span></p>\n\n<p class="x_MsoNormal" style="margin: 0in 0in 8pt\; font-size: 11pt\; font-family: Calibri\, sans-serif\; color: rgb(36\, 36\, 36)\; line-height: 15.5467px\;"><span style="border: 0px\; font: inherit\; margin: 0px\; padding: 0px\; vertical-align: baseline\; color: inherit\;"><span style="border: 0px\; font: inherit\; margin: 0px\; padding: 0px\; vertical-align: baseline\; color: inherit\;"><span style="border: 0px\; font-style: inherit\; font-variant: inherit\; font-weight: inherit\; font-stretch: inherit\; font-size: 12pt\; line-height: 16.96px\; font-family: inherit\; font-optical-sizing: inherit\; font-kerning: inherit\; font-feature-settings: inherit\; font-variation-settings: inherit\; margin: 0px\; padding: 0px\; vertical-align: baseline\; color: inherit\;">The $1.2 million expansion provides Neosho and the surrounding communities with convenient access to physicians and medical services. It will increase clinic and office space\, including the addition of 14 examination rooms\, and will serve as the academic center for the Family Medicine Residency Freeman currently operates in affiliation with Kansas City University of Medicine.</span></span></span></p>\n\n<p class="x_MsoNormal" style="margin: 0in 0in 8pt\; font-size: 11pt\; font-family: Calibri\, sans-serif\; color: rgb(36\, 36\, 36)\; line-height: 15.5467px\;"><span style="border: 0px\; font: inherit\; margin: 0px\; padding: 0px\; vertical-align: baseline\; color: inherit\;"><span style="border: 0px\; font: inherit\; margin: 0px\; padding: 0px\; vertical-align: baseline\; color: inherit\;"><span style="border: 0px\; font-style: inherit\; font-variant: inherit\; font-weight: inherit\; font-stretch: inherit\; font-size: 12pt\; line-height: 16.96px\; font-family: inherit\; font-optical-sizing: inherit\; font-kerning: inherit\; font-feature-settings: inherit\; font-variation-settings: inherit\; margin: 0px\; padding: 0px\; vertical-align: baseline\; color: inherit\;">&ldquo\;Freeman Neosho Hospital and Physicians Group are thrilled to serve as the rural tract location for Kansas City University&rsquo\;s Family Medicine Residency Clinic\,&rdquo\; said Renee Denton\, Freeman Neosho Hospital&rsquo\;s Chief Operating Officer. &ldquo\;It is infrequent that a full residency clinic is available to a rural location\, so to have this clinic available in Neosho will be extremely beneficial and increase access to medical care right here at home.&rdquo\;</span></span></span></p>\n\n<p class="x_MsoNormal" style="margin: 0in 0in 8pt\; font-size: 11pt\; font-family: Calibri\, sans-serif\; color: rgb(36\, 36\, 36)\; line-height: 15.4px\;"><span style="border: 0px\; font: inherit\; margin: 0px\; padding: 0px\; vertical-align: baseline\; color: inherit\;"><span style="border: 0px\; font: inherit\; margin: 0px\; padding: 0px\; vertical-align: baseline\; color: inherit\;"><span style="border: 0px\; font-style: inherit\; font-variant: inherit\; font-weight: inherit\; font-stretch: inherit\; font-size: 12pt\; line-height: 16.8px\; font-family: inherit\; font-optical-sizing: inherit\; font-kerning: inherit\; font-feature-settings: inherit\; font-variation-settings: inherit\; margin: 0px\; padding: 0px\; vertical-align: baseline\; color: inherit\;">The Family Medicine Residency Clinic\, which provides care for the entire family through every stage of life\, adds two new resident physicians each year for three-year clinical stints. Typically\, these doctors in training develop skills in laboratory work\, medical procedures and patient care. Overseen by Family Medicine Residency Program Director Dr. Barbara Miller\, the program&rsquo\;s first two residents\, Dr. Omar Rehman and Dr. Terrance Kelly\, began accepting patients at the clinic in 2022. This summer\, Dr. Brandyce Elia and Dr. Robert Morris joined the team. Two more doctors will come aboard in mid-2024. The program in Neosho focuses on training physicians to work in rural settings far away from extensive medical facilities in larger cities.</span></span></span></p>\n\n<p class="x_MsoNormal" style="margin: 0in 0in 8pt\; font-size: 11pt\; font-family: Calibri\, sans-serif\; color: rgb(36\, 36\, 36)\; line-height: 15.4px\;"><span style="border: 0px\; font: inherit\; margin: 0px\; padding: 0px\; vertical-align: baseline\; color: inherit\;"><span style="border: 0px\; font: inherit\; margin: 0px\; padding: 0px\; vertical-align: baseline\; color: inherit\;"><span style="border: 0px\; font-style: inherit\; font-variant: inherit\; font-weight: inherit\; font-stretch: inherit\; font-size: 12pt\; line-height: 16.8px\; font-family: inherit\; font-optical-sizing: inherit\; font-kerning: inherit\; font-feature-settings: inherit\; font-variation-settings: inherit\; margin: 0px\; padding: 0px\; vertical-align: baseline\; color: inherit\;">In addition to the 14 new examination rooms\, the expansion also features two physician offices\, three support staff workstations for the Family Medicine Residency Clinic\, a consultation area and a small laboratory.</span></span></span></p>\n\n<p class="x_MsoNormal" style="margin: 0in 0in 8pt\; font-size: 11pt\; font-family: Calibri\, sans-serif\; color: rgb(36\, 36\, 36)\; line-height: 15.4px\;"><span style="border: 0px\; font: inherit\; margin: 0px\; padding: 0px\; vertical-align: baseline\; color: inherit\;"><span style="border: 0px\; font: inherit\; margin: 0px\; padding: 0px\; vertical-align: baseline\; color: inherit\;"><span style="border: 0px\; font-style: inherit\; font-variant: inherit\; font-weight: inherit\; font-stretch: inherit\; font-size: 12pt\; line-height: 16.8px\; font-family: inherit\; font-optical-sizing: inherit\; font-kerning: inherit\; font-feature-settings: inherit\; font-variation-settings: inherit\; margin: 0px\; padding: 0px\; vertical-align: baseline\; color: inherit\;">&ldquo\;This is a wonderful opportunity for those in our community who may be looking for a physician who can care for their newborn child or their great-grandparent\, to be able to establish with one physician and receive exceptional care\,&rdquo\; Denton said.</span></span></span></p>\n\n<p class="x_MsoNormal" style="margin: 0in 0in 8pt\; font-size: 11pt\; font-family: Calibri\, sans-serif\; color: rgb(36\, 36\, 36)\; line-height: 15.4px\;"><span style="border: 0px\; font: inherit\; margin: 0px\; padding: 0px\; vertical-align: baseline\; color: inherit\;"><span style="border: 0px\; font: inherit\; margin: 0px\; padding: 0px\; vertical-align: baseline\; color: inherit\;"><span style="border: 0px\; font-style: inherit\; font-variant: inherit\; font-weight: inherit\; font-stretch: inherit\; font-size: 12pt\; line-height: 16.8px\; font-family: inherit\; font-optical-sizing: inherit\; font-kerning: inherit\; font-feature-settings: inherit\; font-variation-settings: inherit\; margin: 0px\; padding: 0px\; vertical-align: baseline\; color: inherit\;">The residency clinic is now scheduling new patients &ndash\; infants through seniors &ndash\; and appointments can be made by calling 417.347.4200.</span></span></span></p>\n\n<p class="x_MsoNormal" style="margin: 0in 0in 8pt\; font-size: 11pt\; font-family: Calibri\, sans-serif\; color: rgb(36\, 36\, 36)\; line-height: 15.5467px\;"><span style="border: 0px\; font: inherit\; margin: 0px\; padding: 0px\; vertical-align: baseline\; color: inherit\;"><span style="border: 0px\; font: inherit\; margin: 0px\; padding: 0px\; vertical-align: baseline\; color: inherit\;"><span style="border: 0px\; font-style: inherit\; font-variant: inherit\; font-weight: inherit\; font-stretch: inherit\; font-size: 12pt\; line-height: 16.96px\; font-family: inherit\; font-optical-sizing: inherit\; font-kerning: inherit\; font-feature-settings: inherit\; font-variation-settings: inherit\; margin: 0px\; padding: 0px\; vertical-align: baseline\; color: inherit\;">&nbsp\;</span></span></span></p>\n\n<p class="x_MsoNormal" style="margin: 0in 0in 8pt\; font-size: 11pt\; font-family: Calibri\, sans-serif\; color: rgb(36\, 36\, 36)\; line-height: 15.5467px\;"><span style="border: 0px\; font: inherit\; margin: 0px\; padding: 0px\; vertical-align: baseline\; color: inherit\;"><span style="border: 0px\; font: inherit\; margin: 0px\; padding: 0px\; vertical-align: baseline\; color: inherit\;"><b><span style="border: 0px\; font-style: inherit\; font-variant: inherit\; font-weight: inherit\; font-stretch: inherit\; font-size: 12pt\; line-height: 16.96px\; font-family: inherit\; font-optical-sizing: inherit\; font-kerning: inherit\; font-feature-settings: inherit\; font-variation-settings: inherit\; margin: 0px\; padding: 0px\; vertical-align: baseline\; color: inherit\;">Media:&nbsp\;</span></b></span></span><span style="border: 0px\; font: inherit\; margin: 0px\; padding: 0px\; vertical-align: baseline\; color: inherit\;"><span style="border: 0px\; font: inherit\; margin: 0px\; padding: 0px\; vertical-align: baseline\; color: inherit\;"><span style="border: 0px\; font-style: inherit\; font-variant: inherit\; font-weight: inherit\; font-stretch: inherit\; font-size: 12pt\; line-height: 16.96px\; font-family: inherit\; font-optical-sizing: inherit\; font-kerning: inherit\; font-feature-settings: inherit\; font-variation-settings: inherit\; margin: 0px\; padding: 0px\; vertical-align: baseline\; color: inherit\;">Contact Kevin McClintock\, Media Relations Coordinator\, at 417.434.3458 if attending. Follow the arrows for parking and entrance to the new addition facing W McKinney Street. There will also be tours of the new addition and lights refreshments will be provided.</span></span></span></p>\n\n<p class="x_MsoNormal" style="margin: 0in 0in 8pt\; font-size: 11pt\; font-family: Calibri\, sans-serif\; color: rgb(36\, 36\, 36)\; line-height: 15.5467px\;"><span style="border: 0px\; font: inherit\; margin: 0px\; padding: 0px\; vertical-align: baseline\; color: inherit\;"><span style="border: 0px\; font: inherit\; margin: 0px\; padding: 0px\; vertical-align: baseline\; color: inherit\;"><b><span style="border: 0px\; font-style: inherit\; font-variant: inherit\; font-weight: inherit\; font-stretch: inherit\; font-size: 12pt\; line-height: 16.96px\; font-family: inherit\; font-optical-sizing: inherit\; font-kerning: inherit\; font-feature-settings: inherit\; font-variation-settings: inherit\; margin: 0px\; padding: 0px\; vertical-align: baseline\; color: inherit\;">&nbsp\;</span></b></span></span></p>\n\n<p align="center" class="x_MsoNormal" style="margin: 0in\; font-size: 11pt\; font-family: Calibri\, sans-serif\; color: rgb(36\, 36\, 36)\; text-align: center\;"><span style="border: 0px\; font: inherit\; margin: 0px\; padding: 0px\; vertical-align: baseline\; color: inherit\;"><span style="border: 0px\; font: inherit\; margin: 0px\; padding: 0px\; vertical-align: baseline\; color: inherit\;"><span style="border: 0px\; font: inherit\; margin: 0px\; padding: 0px\; vertical-align: baseline\; color: black !important\;">###</span></span></span></p>\n\n<p class="x_MsoNormal" style="margin: 0in\; font-size: 11pt\; font-family: Calibri\, sans-serif\; color: rgb(36\, 36\, 36)\;"><span style="border: 0px\; font: inherit\; margin: 0px\; padding: 0px\; vertical-align: baseline\; color: inherit\;"><span style="border: 0px\; font: inherit\; margin: 0px\; padding: 0px\; vertical-align: baseline\; color: inherit\;"><b><span style="border: 0px\; font-style: inherit\; font-variant: inherit\; font-weight: inherit\; font-stretch: inherit\; font-size: 1pt\; line-height: inherit\; font-family: inherit\; font-optical-sizing: inherit\; font-kerning: inherit\; font-feature-settings: inherit\; font-variation-settings: inherit\; margin: 0px\; padding: 0px\; vertical-align: baseline\; color: inherit\;">&nbsp\;</span></b></span></span></p>\n\n<p class="x_MsoNormal" style="margin: 0in\; font-size: 11pt\; font-family: Calibri\, sans-serif\; color: rgb(36\, 36\, 36)\;"><span style="border: 0px\; font: inherit\; margin: 0px\; padding: 0px\; vertical-align: baseline\; color: inherit\;"><span style="border: 0px\; font: inherit\; margin: 0px\; padding: 0px\; vertical-align: baseline\; color: inherit\;"><b>&nbsp\;</b></span></span></p>\n\n<p class="x_MsoNormal" style="margin: 0in\; font-size: 11pt\; font-family: Calibri\, sans-serif\; color: rgb(36\, 36\, 36)\;"><b><span style="border: 0px\; font-style: inherit\; font-variant: inherit\; font-weight: inherit\; font-stretch: inherit\; font-size: 12pt\; line-height: inherit\; font-family: inherit\; font-optical-sizing: inherit\; font-kerning: inherit\; font-feature-settings: inherit\; font-variation-settings: inherit\; margin: 0px\; padding: 0px\; vertical-align: baseline\; color: inherit\;">About Freeman Health System</span></b><br aria-hidden="true" />\n<span style="border: 0px\; font-style: inherit\; font-variant: inherit\; font-weight: inherit\; font-stretch: inherit\; font-size: 12pt\; line-height: inherit\; font-family: inherit\; font-optical-sizing: inherit\; font-kerning: inherit\; font-feature-settings: inherit\; font-variation-settings: inherit\; margin: 0px\; padding: 0px\; vertical-align: baseline\; color: inherit\;">Locally owned\, not-for-profit and nationally recognized\, Freeman Health System includes Freeman Hospital West\, Freeman Hospital East\, Freeman Neosho Hospital and Ozark Center &ndash\; the area&rsquo\;s largest provider of behavioral health services &ndash\; as well as two urgent care clinics\, dozens of physician clinics and a variety of specialty services. In 2023\, Freeman earned dozens of individual awards for medical excellence and patient safety from CareChex&reg\;\, an independent quality rating system that helps consumers evaluate healthcare providers.&nbsp\;<i>U.S. News &amp\; World Report</i>&nbsp\;named Freeman Health System the Best Hospital in Southwest Missouri for 2021. With more than 320 physicians on staff representing more than 90 specialties\, Freeman offers services including cancer care\, heart care\, neurology and neurosurgery\, orthopaedics\, children&rsquo\;s services and women&rsquo\;s services. Additionally\, Freeman is the only Children&rsquo\;s Miracle Network Hospital in a 70-mile radius. For more information\, visit freemanhealth.com.</span></p>\n
LOCATION:Where: 336 S. Jefferson Street\, Neosho\, Mo.
UID:e.2144.11148
SEQUENCE:3
DTSTAMP:20260425T122137Z
URL:https://neoshocc.com/events/details/ribbon-cutting-for-freeman-neosho-physician-group-expansion-11148
END:VEVENT

END:VCALENDAR
