BEGIN:VCALENDAR
VERSION:2.0
PRODID:-//ChamberMaster//Event Calendar 2.0//EN
METHOD:PUBLISH
X-PUBLISHED-TTL:P3D
REFRESH-INTERVAL:P3D
CALSCALE:GREGORIAN
BEGIN:VEVENT
DTSTART:20211228T150000Z
DTEND:20211228T160000Z
X-MICROSOFT-CDO-ALLDAYEVENT:FALSE
SUMMARY:Ribbon Cutting for Freeman Neosho Hospital ER Renovations
DESCRIPTION:The COVID-19 pandemic brought a surge of infectious disease patients to all hospitals\, highlighting a need for more negative pressure isolation rooms. Freeman Neosho Hospital has renovated its Emergency Department to address this need for treating a larger number of infectious disease patients.
X-ALT-DESC;FMTTYPE=text/html:<span style="color:black\;"><span style="font-size:12.0pt\;">The COVID-19 pandemic brought a surge of infectious disease patients to all hospitals\, highlighting a need for more negative pressure isolation rooms. Freeman Neosho Hospital has renovated its Emergency Department to address this need for treating a larger number of infectious disease patients.&nbsp\;</span></span><br />\n&nbsp\;
LOCATION:Freeman Neosho Hospital\, 113 W. Hickory St.\, Neosho\, MO (Media should park in the Freeman Physician Group Clinic lot and use ER entrance
UID:e.2144.8102
SEQUENCE:3
DTSTAMP:20260424T003259Z
URL:https://neoshocc.com/events/details/ribbon-cutting-for-freeman-neosho-hospital-er-renovations-8102
END:VEVENT

END:VCALENDAR
