BEGIN:VCALENDAR
VERSION:2.0
PRODID:-//ChamberMaster//Event Calendar 2.0//EN
METHOD:PUBLISH
X-PUBLISHED-TTL:P3D
REFRESH-INTERVAL:P3D
CALSCALE:GREGORIAN
BEGIN:VEVENT
DTSTART:20151209T200000Z
DTEND:20151209T203000Z
X-MICROSOFT-CDO-ALLDAYEVENT:FALSE
SUMMARY:Ribbon Cutting for Drug Take-Back Box- Neosho Police Department
DESCRIPTION:Join the Neosho Area Chamber of Commerce\, The Alliance of Southwest Missouri and the Neosho Police Department for a Ribbon Cutting for the new Drug Take Back Box at the Police Station.
X-ALT-DESC;FMTTYPE=text/html:Join the Neosho Area Chamber of Commerce\, The Alliance of Southwest Missouri and the Neosho Police Department for a Ribbon Cutting for the new Drug Take Back Box at the Police Station.&nbsp\;&nbsp\;&nbsp\;&nbsp\;&nbsp\;&nbsp\;&nbsp\;
LOCATION:Neosho Police Department 201 N College Neosho\, MO
UID:e.2144.1518
SEQUENCE:3
DTSTAMP:20260421T172810Z
URL:https://neoshocc.com/events/details/ribbon-cutting-for-drug-take-back-box-neosho-police-department-12-09-2015-1518
END:VEVENT

END:VCALENDAR
