BEGIN:VCALENDAR
VERSION:2.0
PRODID:-//ChamberMaster//Event Calendar 2.0//EN
METHOD:PUBLISH
X-PUBLISHED-TTL:P3D
REFRESH-INTERVAL:P3D
CALSCALE:GREGORIAN
BEGIN:VEVENT
DTSTART:20160211T170000Z
DTEND:20160211T180000Z
X-MICROSOFT-CDO-ALLDAYEVENT:FALSE
SUMMARY:RIbbon Cutting- Faithful Friends Animal Advocates - New Shelter
DESCRIPTION:Join us for a Ribbon Cutting to celebrate the opening of the Faithful Friends Animal Advocates New Shelter
X-ALT-DESC;FMTTYPE=text/html:Join us for a Ribbon Cutting to celebrate the opening of the Faithful Friends Animal Advocates New Shelter
LOCATION:11281 E. Highway 86 Neosho\, MO 64850
UID:e.2144.1588
SEQUENCE:3
DTSTAMP:20260421T130856Z
URL:https://neoshocc.com/events/details/ribbon-cutting-faithful-friends-animal-advocates-new-shelter-02-11-2016-1588
END:VEVENT

END:VCALENDAR
