BEGIN:VCALENDAR
VERSION:2.0
PRODID:-//ChamberMaster//Event Calendar 2.0//EN
METHOD:PUBLISH
X-PUBLISHED-TTL:P3D
REFRESH-INTERVAL:P3D
CALSCALE:GREGORIAN
BEGIN:VEVENT
DTSTART:20211018T160000Z
DTEND:20211018T163000Z
X-MICROSOFT-CDO-ALLDAYEVENT:FALSE
SUMMARY:Ribbon Cutting - Dittmer's Storage
DESCRIPTION:Join us at 12687 Gateway Dr. Neosho\, MO for a Ribbon Cutting!
X-ALT-DESC;FMTTYPE=text/html:Join us at&nbsp\;<span style="color: rgb(5\, 5\, 5)\; font-family: &quot\;Segoe UI Historic&quot\;\, &quot\;Segoe UI&quot\;\, Helvetica\, Arial\, sans-serif\; font-size: 15px\; white-space: pre-wrap\;">12687 Gateway Dr. Neosho\, MO for a Ribbon Cutting! </span>
LOCATION:
UID:e.2144.7906
SEQUENCE:3
DTSTAMP:20260423T210332Z
URL:https://neoshocc.com/events/details/ribbon-cutting-dittmer-s-storage-7906
END:VEVENT

END:VCALENDAR
