BEGIN:VCALENDAR
VERSION:2.0
PRODID:-//ChamberMaster//Event Calendar 2.0//EN
METHOD:PUBLISH
X-PUBLISHED-TTL:P3D
REFRESH-INTERVAL:P3D
CALSCALE:GREGORIAN
BEGIN:VEVENT
DTSTART:20211022T144500Z
DTEND:20211022T153000Z
X-MICROSOFT-CDO-ALLDAYEVENT:FALSE
SUMMARY:Ribbon Cutting Celebration - Miss Daisy's
DESCRIPTION:Join us as we celebrate with Miss Daisy's on 5 years!  Let's kick off their birthday weekend with a Ribbon Cutting! \n\nCheers to five years!\n\n\n\nCome hungry because we will have Stuff Your Face food truck as well as Mac's Cinnamon Rolls!\n\n\n\nWe will be doing giveaways all weekend\, so be sure and stop by the store to enter!\n\n\n\nThe first 10 people on Friday\, Saturday\, and Sunday to spend $200 or more will (before tax) will receive a Miss Daisy's shirt as well as a 16 oz. Pumpkin Pancakes candle.\n\n\n\nWe will have a limited number of shop local bags available for purchase. Each time you bring this bag back after purchase\, you will receive a 15% discount on things that are able to fit in the bag. This promotion goes through the end of 2022.\n\n\n\nWe will be having promotions all weekend\, and we will be having a sidewalk sale as well!\n\n\n\nWe can't wait to see you all there!!!!
X-ALT-DESC;FMTTYPE=text/html:<strong><span style="font-size:14px\;"><span style="font-family:tahoma\;">Join us as we celebrate with Miss Daisy&#39\;s on 5 years!&nbsp\; Let&#39\;s kick off their birthday weekend with a Ribbon Cutting!&nbsp\;</span></span></strong>\n<div class="o9v6fnle cxmmr5t8 oygrvhab hcukyx3x c1et5uql ii04i59q" style="overflow-wrap: break-word\; margin: 0.5em 0px 0px\; white-space: pre-wrap\; font-family: &quot\;Segoe UI Historic&quot\;\, &quot\;Segoe UI&quot\;\, Helvetica\, Arial\, sans-serif\; color: rgb(5\, 5\, 5)\; font-size: 15px\;">\n<div dir="auto" style="font-family: inherit\;">Cheers to five years!</div>\n</div>\n\n<div class="o9v6fnle cxmmr5t8 oygrvhab hcukyx3x c1et5uql ii04i59q" style="overflow-wrap: break-word\; margin: 0.5em 0px 0px\; white-space: pre-wrap\; font-family: &quot\;Segoe UI Historic&quot\;\, &quot\;Segoe UI&quot\;\, Helvetica\, Arial\, sans-serif\; color: rgb(5\, 5\, 5)\; font-size: 15px\;">\n<div dir="auto" style="font-family: inherit\;">Come hungry because we will have Stuff Your Face food truck as well as Mac&rsquo\;s Cinnamon Rolls!</div>\n</div>\n\n<div class="o9v6fnle cxmmr5t8 oygrvhab hcukyx3x c1et5uql ii04i59q" style="overflow-wrap: break-word\; margin: 0.5em 0px 0px\; white-space: pre-wrap\; font-family: &quot\;Segoe UI Historic&quot\;\, &quot\;Segoe UI&quot\;\, Helvetica\, Arial\, sans-serif\; color: rgb(5\, 5\, 5)\; font-size: 15px\;">\n<div dir="auto" style="font-family: inherit\;">We will be doing giveaways all weekend\, so be sure and stop by the store to enter!</div>\n</div>\n\n<div class="o9v6fnle cxmmr5t8 oygrvhab hcukyx3x c1et5uql ii04i59q" style="overflow-wrap: break-word\; margin: 0.5em 0px 0px\; white-space: pre-wrap\; font-family: &quot\;Segoe UI Historic&quot\;\, &quot\;Segoe UI&quot\;\, Helvetica\, Arial\, sans-serif\; color: rgb(5\, 5\, 5)\; font-size: 15px\;">\n<div dir="auto" style="font-family: inherit\;">The first 10 people on Friday\, Saturday\, and Sunday to spend $200 or more will (before tax) will receive a Miss Daisy&rsquo\;s shirt as well as a 16 oz. Pumpkin Pancakes candle.</div>\n</div>\n\n<div class="o9v6fnle cxmmr5t8 oygrvhab hcukyx3x c1et5uql ii04i59q" style="overflow-wrap: break-word\; margin: 0.5em 0px 0px\; white-space: pre-wrap\; font-family: &quot\;Segoe UI Historic&quot\;\, &quot\;Segoe UI&quot\;\, Helvetica\, Arial\, sans-serif\; color: rgb(5\, 5\, 5)\; font-size: 15px\;">\n<div dir="auto" style="font-family: inherit\;">We will have a limited number of shop local bags available for purchase. Each time you bring this bag back after purchase\, you will receive a 15% discount on things that are able to fit in the bag. This promotion goes through the end of 2022.</div>\n</div>\n\n<div class="o9v6fnle cxmmr5t8 oygrvhab hcukyx3x c1et5uql ii04i59q" style="overflow-wrap: break-word\; margin: 0.5em 0px 0px\; white-space: pre-wrap\; font-family: &quot\;Segoe UI Historic&quot\;\, &quot\;Segoe UI&quot\;\, Helvetica\, Arial\, sans-serif\; color: rgb(5\, 5\, 5)\; font-size: 15px\;">\n<div dir="auto" style="font-family: inherit\;">We will be having promotions all weekend\, and we will be having a sidewalk sale as well!</div>\n</div>\n\n<div class="o9v6fnle cxmmr5t8 oygrvhab hcukyx3x c1et5uql ii04i59q" style="overflow-wrap: break-word\; margin: 0.5em 0px 0px\; white-space: pre-wrap\; font-family: &quot\;Segoe UI Historic&quot\;\, &quot\;Segoe UI&quot\;\, Helvetica\, Arial\, sans-serif\; color: rgb(5\, 5\, 5)\; font-size: 15px\;">\n<div dir="auto" style="font-family: inherit\;">We can&rsquo\;t wait to see you all there!!!!</div>\n</div>\n
LOCATION:2702 Richard Joseph Blvd. Joplin\, MO 64804
UID:e.2144.8036
SEQUENCE:3
DTSTAMP:20260423T210801Z
URL:https://neoshocc.com/events/details/ribbon-cutting-celebration-miss-daisy-s-8036
END:VEVENT

END:VCALENDAR
