BEGIN:VCALENDAR
VERSION:2.0
PRODID:-//ChamberMaster//Event Calendar 2.0//EN
METHOD:PUBLISH
X-PUBLISHED-TTL:P3D
REFRESH-INTERVAL:P3D
CALSCALE:GREGORIAN
BEGIN:VEVENT
DTSTART:20141117T223000Z
DTEND:20141118T020000Z
X-MICROSOFT-CDO-ALLDAYEVENT:FALSE
SUMMARY:Ribbon Cutting/3 Year Anniversary - Dr. Fly's Salon
DESCRIPTION:Join us for a Ribbon Cutting to celebrate 3 Years of business in Neosho for Dr. Fly's Salon\, Stay and enjoy their Christmas Open House!
X-ALT-DESC;FMTTYPE=text/html:Join us for a Ribbon Cutting to celebrate 3 Years of business in Neosho for Dr. Fly&#39\;s Salon\, Stay and enjoy their Christmas Open House!
LOCATION:Dr. Fly's Salon Neosho Blvd
UID:e.2144.82
SEQUENCE:3
DTSTAMP:20260422T121711Z
URL:https://neoshocc.com/events/details/ribbon-cutting-3-year-anniversary-dr-fly-s-salon-11-17-2014-82
END:VEVENT

END:VCALENDAR
