BEGIN:VCALENDAR
VERSION:2.0
PRODID:-//ChamberMaster//Event Calendar 2.0//EN
METHOD:PUBLISH
X-PUBLISHED-TTL:P3D
REFRESH-INTERVAL:P3D
CALSCALE:GREGORIAN
BEGIN:VEVENT
DTSTART:20231220T220000Z
DTEND:20231221T000000Z
X-MICROSOFT-CDO-ALLDAYEVENT:FALSE
SUMMARY:Retirement Reception to honor Annette Thurston scheduled for December 20th
DESCRIPTION:On Wednesday\, December 20th\, from 4:00 to 6:00 p.m.\, members of the surrounding area chambers are invited to attend a retirement reception honoring Annette Thurston\, founding Executive Director of Ronald McDonald House Charities of the Four States. The reception will be a come-and-go event located at Ronald McDonald House of the Four States. On September 19th\, 2023\, Thurston publicly announced her retirement from RMHC\, set for December 31st\, 2023. Her retirement will bring to a close a career of nearly 26 years of outstanding servant leadership\, compassion and stewardship to the Charity's mission of creating\, finding and supporting programs that better the lives of children and families.
X-ALT-DESC;FMTTYPE=text/html:On Wednesday\, December 20th\, from 4:00 to 6:00 p.m.\, members of the surrounding area chambers are invited to attend a retirement reception honoring Annette Thurston\, founding Executive Director of Ronald McDonald House Charities of the Four States. The reception will be a come-and-go event located at Ronald McDonald House of the Four States. On September 19th\, 2023\, Thurston publicly announced her retirement from RMHC\, set for December 31st\, 2023. Her retirement will bring to a close a career of nearly 26 years of outstanding servant leadership\, compassion and stewardship to the Charity&rsquo\;s mission of creating\, finding and supporting programs that better the lives of children and families.
LOCATION:3402 S. Jackson Avenue Joplin\, Missouri
UID:e.2144.11147
SEQUENCE:3
DTSTAMP:20260425T104427Z
URL:https://neoshocc.com/events/details/retirement-reception-to-honor-annette-thurston-scheduled-for-december-20th-11147
END:VEVENT

END:VCALENDAR
