BEGIN:VCALENDAR
VERSION:2.0
PRODID:-//ChamberMaster//Event Calendar 2.0//EN
METHOD:PUBLISH
X-PUBLISHED-TTL:P3D
REFRESH-INTERVAL:P3D
CALSCALE:GREGORIAN
BEGIN:VEVENT
DTSTART:20150314T140000Z
DTEND:20150314T190000Z
X-MICROSOFT-CDO-ALLDAYEVENT:FALSE
SUMMARY:Rainbows for Veterans - Veteran & Active Duty Fishing Day- Neosho National Fish Hatchery
DESCRIPTION:The Neosho National Fish Hatchery is hosting Rainbows for Veterans\, a Veteran and Active Duty Fishing Day on Saturday\, March 19th fom 10 am to 2pm.  Registration starts at 9am.  Proof of service required for active and retired military.  Free lunch and all the gear you need will be provided for a day of free fishing.  No license or tag required\; however\, there will be a four trout limit.
X-ALT-DESC;FMTTYPE=text/html:The Neosho National Fish Hatchery is hosting Rainbows for Veterans\, a Veteran and Active Duty Fishing Day on Saturday\, March 19th fom 10 am to 2pm.&nbsp\; Registration starts at 9am.&nbsp\; Proof of service required for active and retired military.&nbsp\; Free lunch and all the gear you need will be provided for a day of free fishing.&nbsp\; No license or tag required\; however\, there will be a four trout limit.
LOCATION:Neosho National Fish Hatchery 520 E. Park St Neosho\, MO 64850 417-451-0554
UID:e.2144.144
SEQUENCE:3
DTSTAMP:20260422T060232Z
URL:https://neoshocc.com/events/details/rainbows-for-veterans-veteran-active-duty-fishing-day-neosho-national-fish-hatchery-03-14-2015-144
END:VEVENT

END:VCALENDAR
