BEGIN:VCALENDAR
VERSION:2.0
PRODID:-//ChamberMaster//Event Calendar 2.0//EN
METHOD:PUBLISH
X-PUBLISHED-TTL:P3D
REFRESH-INTERVAL:P3D
CALSCALE:GREGORIAN
BEGIN:VEVENT
DTSTART:20140918T170000Z
DTEND:20140918T180000Z
X-MICROSOFT-CDO-ALLDAYEVENT:FALSE
SUMMARY:Quarterly Membership Meeting & Luncheon
DESCRIPTION:The Neosho Area Chamber of Commerce will hold it's Quarterly Membership Meeting and Luncheon on Thursday\, September 18th\, 2014 at Noon\, at the Wright Conference Center inside the Farber Building on the campus of Crowder College.  All members and their staff our invited to attend!  We will be holding a brief membership meeting to vote on updated by-laws that requires approval of the general membership. We will also be updating our members on some new and exciting member benefits!
X-ALT-DESC;FMTTYPE=text/html:The Neosho Area Chamber of Commerce will hold it&#39\;s Quarterly Membership Meeting and Luncheon on Thursday\, September 18th\, 2014 at Noon\, at the Wright Conference Center inside the Farber Building on the campus of Crowder College.&nbsp\; All members and their staff our invited to attend!&nbsp\; We will be holding a brief membership meeting to vote on updated by-laws that requires approval of the general membership. We will also be updating our members on some new and exciting member benefits!
LOCATION:The Wright Conference Center inside the Farber Building on the campus of Crowder College
UID:e.2144.28
SEQUENCE:3
DTSTAMP:20260422T150515Z
URL:https://neoshocc.com/events/details/quarterly-membership-meeting-luncheon-09-18-2014-28
END:VEVENT

END:VCALENDAR
