BEGIN:VCALENDAR
VERSION:2.0
PRODID:-//ChamberMaster//Event Calendar 2.0//EN
METHOD:PUBLISH
X-PUBLISHED-TTL:P3D
REFRESH-INTERVAL:P3D
CALSCALE:GREGORIAN
BEGIN:VEVENT
DTSTART:20160324T170000Z
DTEND:20160324T180000Z
X-MICROSOFT-CDO-ALLDAYEVENT:FALSE
SUMMARY:Quarterly Membership Luncheon - "Renewable Energy"
DESCRIPTION:Join us for our Quarterly Membership Luncheon Presented by True Energy & Farrell Construction.  The Program will feature information on "Renewable Energy"  We will also get you up to date on all the newest things that are happening with your Chamber!
X-ALT-DESC;FMTTYPE=text/html:<div style="color: gray\;">Join us for our Quarterly Membership Luncheon Presented by True Energy &amp\; Farrell Construction.&nbsp\; The Program will feature information on &quot\;Renewable Energy&quot\;&nbsp\; We will also get you up to date on all the newest things that are happening with your Chamber!</div>\n
LOCATION:The Neosho Civic 109 W. Main Neosho\, MO
UID:e.2144.1612
SEQUENCE:3
DTSTAMP:20260421T115108Z
URL:https://neoshocc.com/events/details/quarterly-membership-luncheon-renewable-energy-03-24-2016-1612
END:VEVENT

END:VCALENDAR
