BEGIN:VCALENDAR
VERSION:2.0
PRODID:-//ChamberMaster//Event Calendar 2.0//EN
METHOD:PUBLISH
X-PUBLISHED-TTL:P3D
REFRESH-INTERVAL:P3D
CALSCALE:GREGORIAN
BEGIN:VEVENT
DTSTART:20150917T170000Z
DTEND:20150917T180000Z
X-MICROSOFT-CDO-ALLDAYEVENT:FALSE
SUMMARY:Quarterly Luncheon
DESCRIPTION:Don't forget to pre-register for our Quarterly Luncheon.
X-ALT-DESC;FMTTYPE=text/html:Don&#39\;t forget to pre-register for our Quarterly Luncheon.
LOCATION:Crowder College in the Wright Conference Room
UID:e.2144.1446
SEQUENCE:3
DTSTAMP:20260421T201749Z
URL:https://neoshocc.com/events/details/quarterly-luncheon-09-17-2015-1446
END:VEVENT

END:VCALENDAR
