BEGIN:VCALENDAR
VERSION:2.0
PRODID:-//ChamberMaster//Event Calendar 2.0//EN
METHOD:PUBLISH
X-PUBLISHED-TTL:P3D
REFRESH-INTERVAL:P3D
CALSCALE:GREGORIAN
BEGIN:VEVENT
DTSTART:20160223T143000Z
DTEND:20160223T153000Z
X-MICROSOFT-CDO-ALLDAYEVENT:FALSE
SUMMARY:Power Hour Training - Neosho Chamber Office
DESCRIPTION:Unleash the power of your Chamber Membership with our NEW Power Hour Training!  We want you to know all the tools that we have to help you with your business!
X-ALT-DESC;FMTTYPE=text/html:Unleash the power of your Chamber Membership with our NEW Power Hour Training!&nbsp\; We want you to know all the tools that we have to help you with your business!
LOCATION:Neosho Area Chamber of Commerce La-Z-Boy Opportunity Center 216 W Spring St Neosho\, MO 64850
UID:e.2144.1586
SEQUENCE:3
DTSTAMP:20260421T130323Z
URL:https://neoshocc.com/events/details/power-hour-training-neosho-chamber-office-02-23-2016-1586
END:VEVENT

END:VCALENDAR
