BEGIN:VCALENDAR
VERSION:2.0
PRODID:-//ChamberMaster//Event Calendar 2.0//EN
METHOD:PUBLISH
X-PUBLISHED-TTL:P3D
REFRESH-INTERVAL:P3D
CALSCALE:GREGORIAN
BEGIN:VEVENT
DTSTART:20160419T133000Z
DTEND:20160419T143000Z
X-MICROSOFT-CDO-ALLDAYEVENT:FALSE
SUMMARY:Power Hour Training - Chamber Office
DESCRIPTION:Come and learn more about how your chamber membership can work for you.
X-ALT-DESC;FMTTYPE=text/html:Come and learn more about how your chamber membership can work for you.
LOCATION:Chamber Office
UID:e.2144.1631
SEQUENCE:3
DTSTAMP:20260421T114756Z
URL:https://neoshocc.com/events/details/power-hour-training-chamber-office-04-19-2016-1631
END:VEVENT

END:VCALENDAR
