BEGIN:VCALENDAR
VERSION:2.0
PRODID:-//ChamberMaster//Event Calendar 2.0//EN
METHOD:PUBLISH
X-PUBLISHED-TTL:P3D
REFRESH-INTERVAL:P3D
CALSCALE:GREGORIAN
BEGIN:VEVENT
DTSTART:20210721T133000Z
DTEND:20210721T143000Z
X-MICROSOFT-CDO-ALLDAYEVENT:FALSE
SUMMARY:Power Hour Training
DESCRIPTION:Unleash the power of your Chamber Membership with our Power Hour Training\, sponsored by our friends at Croley Financial!  We want you to know all the resources that we have to help you with your business. \n\n\n\nDuring this hour\, you will learn how to submit free job postings\, post Hot Deals from your business\, access our Membership Database and so much more! \n\n\n\nThis information will ensure you are utilizing the tools of your Chamber Membership.
X-ALT-DESC;FMTTYPE=text/html:Unleash the power of your Chamber Membership with our Power Hour Training\, sponsored by our friends at Croley Financial!&nbsp\; We want you to know all the resources that we have to help you with your business.&nbsp\;<br />\n<br />\nDuring this hour\, you will learn how to submit free job postings\, post Hot Deals from your business\, access our Membership Database and so much more!&nbsp\;<br />\n<br />\nThis information will ensure you are utilizing the tools of your Chamber Membership.&nbsp\;
LOCATION:Neosho Area Chamber of Commerce 216 W Spring St Neosho\, MO 64850 Virtual option available
UID:e.2144.7698
SEQUENCE:3
DTSTAMP:20260423T161731Z
URL:https://neoshocc.com/events/details/power-hour-training-7698
END:VEVENT

END:VCALENDAR
